BEGIN:VCALENDAR
VERSION:2.0
CALSCALE:GREGORIAN
METHOD:REQUEST
PRODID:Marquette Savings Bank
BEGIN:VEVENT
UID: 33427669eb45e5df2de@
SUMMARY:Business Bank Serie 3: Loans: What Is Needed To Start The Process Of A Business Loan?
DTSTAMP:20260424T062853
DTSTART:20240815T120000
DTEND:20240815T130000
LOCATION:
DESCRIPTION:Looking for a business loan? Learn what is needed to start the process of a business loan. This session includes lunch!
STATUS:CONFIRMED
SEQUENCE:3
END:VEVENT
END:VCALENDAR