BEGIN:VCALENDAR
VERSION:2.0
CALSCALE:GREGORIAN
METHOD:REQUEST
PRODID:Marquette Savings Bank
BEGIN:VEVENT
UID: 61986269eb49e2883b2@
SUMMARY:Estate Planning- POA And Living Will
DTSTAMP:20260424T064554
DTSTART:20240822T170000
DTEND:20240822T180000
LOCATION:
DESCRIPTION:With the help of legal and financial professionals from Marsh Schaaf, LLP and Marquette, drafting an estate plan is easier than you think.
STATUS:CONFIRMED
SEQUENCE:3
END:VEVENT
END:VCALENDAR