BEGIN:VCALENDAR
VERSION:2.0
CALSCALE:GREGORIAN
METHOD:REQUEST
PRODID:Marquette Savings Bank
BEGIN:VEVENT
UID: 76203369eb49697d268@
SUMMARY:Basics of Savings And The 50/30/20 Rule
DTSTAMP:20260424T064353
DTSTART:20240829T170000
DTEND:20240829T180000
LOCATION:
DESCRIPTION:Learn the concept of saving, create savings goals, and talk about the saving options at Marquette.
STATUS:CONFIRMED
SEQUENCE:3
END:VEVENT
END:VCALENDAR