BEGIN:VCALENDAR
VERSION:2.0
CALSCALE:GREGORIAN
METHOD:REQUEST
PRODID:Marquette Savings Bank
BEGIN:VEVENT
UID: 4616669eb5f9d8c0fb@
SUMMARY:Business Banking 4: The Corporate Transparency Act
DTSTAMP:20260424T081837
DTSTART:20240910T170000
DTEND:20240910T180000
LOCATION:
DESCRIPTION:Learn about the filing requirements for Business Ownership by January 1, 2025.
STATUS:CONFIRMED
SEQUENCE:3
END:VEVENT
END:VCALENDAR