BEGIN:VCALENDAR
VERSION:2.0
CALSCALE:GREGORIAN
METHOD:REQUEST
PRODID:Marquette Savings Bank
BEGIN:VEVENT
UID: 37519569eb5f3dd0b78@
SUMMARY:Protect Your Online Accounts
DTSTAMP:20260424T081701
DTSTART:20240918T180000
DTEND:20240918T190000
LOCATION:
DESCRIPTION:Learn how to set up and protect online accounts without worry!
STATUS:CONFIRMED
SEQUENCE:3
END:VEVENT
END:VCALENDAR