BEGIN:VCALENDAR
VERSION:2.0
CALSCALE:GREGORIAN
METHOD:REQUEST
PRODID:Marquette Savings Bank
BEGIN:VEVENT
UID: 55080369eb750ad08f1@
SUMMARY:Protect Your Identity
DTSTAMP:20260424T095002
DTSTART:20241016T180000
DTEND:20241016T190000
LOCATION:
DESCRIPTION:Join our fraud experts as we define what identity theft is and discuss steps you can take to prevent it, protect yourself, monitor and report.
STATUS:CONFIRMED
SEQUENCE:3
END:VEVENT
END:VCALENDAR