BEGIN:VCALENDAR
VERSION:2.0
CALSCALE:GREGORIAN
METHOD:REQUEST
PRODID:Marquette Savings Bank
BEGIN:VEVENT
UID: 2920069eb7876da3cf@
SUMMARY:Business Bank Series 5: Fraud Business Package: How To Protect Your Business Money
DTSTAMP:20260424T100438
DTSTART:20241017T120000
DTEND:20241017T130000
LOCATION:
DESCRIPTION:Learn how to use Positive Pay and ACH Positive Pay to protect your accounts from unwanted debit transactions. This session includes lunch!
STATUS:CONFIRMED
SEQUENCE:3
END:VEVENT
END:VCALENDAR