BEGIN:VCALENDAR
VERSION:2.0
CALSCALE:GREGORIAN
METHOD:REQUEST
PRODID:Marquette Savings Bank
BEGIN:VEVENT
UID: 14636569eb7567ce44f@
SUMMARY:First-Time Home Buyer Event
DTSTAMP:20260424T095135
DTSTART:20241019T100000
DTEND:20241019T120000
LOCATION:
DESCRIPTION:Are you a first home buyer but don&#039;t know where to start? We will talk about the terminology, understand prequalification, looking for a home, applying for a loan, loan documentation, loan approval and loan closing.
STATUS:CONFIRMED
SEQUENCE:3
END:VEVENT
END:VCALENDAR