BEGIN:VCALENDAR
VERSION:2.0
CALSCALE:GREGORIAN
METHOD:REQUEST
PRODID:Marquette Savings Bank
BEGIN:VEVENT
UID: 19630069eb7567f0cfd@
SUMMARY:Business Banking Series 6: How To Protect Your Business From A Cyber Attack
DTSTAMP:20260424T095135
DTSTART:20241024T170000
DTEND:20241024T180000
LOCATION:
DESCRIPTION:Learn how you can protect your business information, and ways to prevent a cyber attack happening at your company.
STATUS:CONFIRMED
SEQUENCE:3
END:VEVENT
END:VCALENDAR