BEGIN:VCALENDAR
VERSION:2.0
CALSCALE:GREGORIAN
METHOD:REQUEST
PRODID:Marquette Savings Bank
BEGIN:VEVENT
UID: 46486769eb8ffc9dea9@
SUMMARY:Business Bank Series 7: Checks, Wires, And ACH
DTSTAMP:20260424T114500
DTSTART:20241113T120000
DTEND:20241113T130000
LOCATION:
DESCRIPTION:Learn how your business should safely and securely send and receive money. This session includes lunch!
STATUS:CONFIRMED
SEQUENCE:3
END:VEVENT
END:VCALENDAR