BEGIN:VCALENDAR
VERSION:2.0
CALSCALE:GREGORIAN
METHOD:REQUEST
PRODID:Marquette Savings Bank
BEGIN:VEVENT
UID: 60435769eb92fedfed2@
SUMMARY:Protect Yourself From Fraud And Scams
DTSTAMP:20260424T115750
DTSTART:20241120T113000
DTEND:20241120T123000
LOCATION:
DESCRIPTION:Learn how to help raise awareness to fraudulent scams and ways you can protect your identity. This session includes lunch!
STATUS:CONFIRMED
SEQUENCE:3
END:VEVENT
END:VCALENDAR