BEGIN:VCALENDAR
VERSION:2.0
CALSCALE:GREGORIAN
METHOD:REQUEST
PRODID:Marquette Savings Bank
BEGIN:VEVENT
UID: 40613569eba5033fd9e@
SUMMARY:Protect Your Spending
DTSTAMP:20260424T131443
DTSTART:20241218T113000
DTEND:20241218T123000
LOCATION:
DESCRIPTION:Learn how to outsmart scammers and secure your bank account information. This session includes lunch!
STATUS:CONFIRMED
SEQUENCE:3
END:VEVENT
END:VCALENDAR