BEGIN:VCALENDAR
VERSION:2.0
CALSCALE:GREGORIAN
METHOD:REQUEST
PRODID:Marquette Savings Bank
BEGIN:VEVENT
UID: 25436569e7529db1d09@
SUMMARY:The Basics of Savings
DTSTAMP:20260421T063405
DTSTART:20250211T123000
DTEND:20250211T133000
LOCATION:
DESCRIPTION:Participants will get tips about the best ways to get started saving money, learn about the different types of accounts used for saving, reasons to open a savings account and the steps to take to get started. This class includes lunch. 
STATUS:CONFIRMED
SEQUENCE:3
END:VEVENT
END:VCALENDAR