BEGIN:VCALENDAR
VERSION:2.0
CALSCALE:GREGORIAN
METHOD:REQUEST
PRODID:Marquette Savings Bank
BEGIN:VEVENT
UID: 27006569e4c5d492a62@
SUMMARY:Business Banking Series 1: Account Opening, Documentation, &amp; Business Classification Documents
DTSTAMP:20260419T080852
DTSTART:20250220T120500
DTEND:20250220T130000
LOCATION:
DESCRIPTION:Looking to start a business? Learn about account opening, documentation, and business classification documents. This class includes lunch only if attending in person at Marquette&#039;s ILC (930 Peach Street).
STATUS:CONFIRMED
SEQUENCE:3
END:VEVENT
END:VCALENDAR