BEGIN:VCALENDAR
VERSION:2.0
CALSCALE:GREGORIAN
METHOD:REQUEST
PRODID:Marquette Savings Bank
BEGIN:VEVENT
UID: 18865669e7560a86a85@
SUMMARY:Saving for College
DTSTAMP:20260421T064842
DTSTART:20250416T173000
DTEND:20250416T183000
LOCATION:
DESCRIPTION:Wondering how you will pay for your child&#039;s college tuition? Learn about 529 Plans from Certified Financial Planners from Bayfront Benefit Solutions Inc. 
STATUS:CONFIRMED
SEQUENCE:3
END:VEVENT
END:VCALENDAR