BEGIN:VCALENDAR
VERSION:2.0
CALSCALE:GREGORIAN
METHOD:REQUEST
PRODID:Marquette Savings Bank
BEGIN:VEVENT
UID: 57108769e7bceac5014@
SUMMARY:The Basics of Savings
DTSTAMP:20260421T140738
DTSTART:20250812T123000
DTEND:20250812T133000
LOCATION:
DESCRIPTION:Participants will get tips about the best ways to get started saving money, learn about the different types of accounts used for saving, reasons to open a savings account and the steps to take to get started. This class includes lunch only if attending in person at Marquette&#039;s ILC (930 Peach Street).
STATUS:CONFIRMED
SEQUENCE:3
END:VEVENT
END:VCALENDAR