BEGIN:VCALENDAR
VERSION:2.0
CALSCALE:GREGORIAN
METHOD:REQUEST
PRODID:Marquette Savings Bank
BEGIN:VEVENT
UID: 30091569e7d2492b13c@
SUMMARY:Estate Planning: Power of Attorney and Living Will
DTSTAMP:20260421T153849
DTSTART:20250918T170000
DTEND:20250918T180000
LOCATION:
DESCRIPTION:For many people, creating an estate plan is a task that routinely gets pushed to the bottom of the pile. Some assume that estate plans are only for the wealthy. Others may simply want to avoid thinking about some of the tough topics estate planning entails. With the help of legal and financial professionals, drafting an estate plan is probably easier than you think. This session will be taught by Eugene C. Sundberg, Jr., Esq. from Marsh Schaaf, LLP and Nicole Mello from Marquette.
STATUS:CONFIRMED
SEQUENCE:3
END:VEVENT
END:VCALENDAR