BEGIN:VCALENDAR
VERSION:2.0
CALSCALE:GREGORIAN
METHOD:REQUEST
PRODID:Marquette Savings Bank
BEGIN:VEVENT
UID: 17282569e7e7a9d3439@
SUMMARY:Business Bank Series 3: Fraud Business Package: How To Protect Your Business Money
DTSTAMP:20260421T171001
DTSTART:20251009T120500
DTEND:20251009T130000
LOCATION:
DESCRIPTION:Learn how to use Positive Pay and ACH Positive Pay to protect your accounts from unwanted debit transactions. This class includes lunch only if attending in person at Marquette&#039;s ILC (930 Peach Street).
STATUS:CONFIRMED
SEQUENCE:3
END:VEVENT
END:VCALENDAR