BEGIN:VCALENDAR
VERSION:2.0
CALSCALE:GREGORIAN
METHOD:REQUEST
PRODID:Marquette Savings Bank
BEGIN:VEVENT
UID: 45615769e7eab137ace@
SUMMARY:How To Protect Your Business From A Cyber Attack
DTSTAMP:20260421T172257
DTSTART:20251022T120000
DTEND:20251022T130000
LOCATION:
DESCRIPTION:Learn how you can protect your business information, and ways to prevent a cyber attack happening at your company. This class includes lunch only if attending in person at Marquette&#039;s ILC (930 Peach Street).
STATUS:CONFIRMED
SEQUENCE:3
END:VEVENT
END:VCALENDAR