BEGIN:VCALENDAR
VERSION:2.0
CALSCALE:GREGORIAN
METHOD:REQUEST
PRODID:Marquette Savings Bank
BEGIN:VEVENT
UID: 35382169e7e934be37e@
SUMMARY:Estate Planning- Last Will And Testament
DTSTAMP:20260421T171636
DTSTART:20251023T170000
DTEND:20251023T180000
LOCATION:
DESCRIPTION:With the help of legal and financial professionals from Marsh Schaaf, LLP and Marquette, drafting an estate plan is easier than you think.
STATUS:CONFIRMED
SEQUENCE:3
END:VEVENT
END:VCALENDAR