BEGIN:VCALENDAR
VERSION:2.0
CALSCALE:GREGORIAN
METHOD:REQUEST
PRODID:Marquette Savings Bank
BEGIN:VEVENT
UID: 52184469eaec1cbc8fe@
SUMMARY: INSURANCE - NOT A BARRIER TO RETIREMENT 
DTSTAMP:20260424T000548
DTSTART:20240221T173000
DTEND:20240221T000000
LOCATION:
DESCRIPTION:You&#039;re ready to retire but are scared because you don&#039;t know your insurance options. During this session you will hear from Greg Deemer, CLU®, ChFC® and Matt Simon, CERTIFIED FINANCIAL PLANNER, from Bayfront Benefit Solutions Inc. to learn what your Medicare and open enrollment options are.<br />

STATUS:CONFIRMED
SEQUENCE:3
END:VEVENT
END:VCALENDAR