BEGIN:VCALENDAR
VERSION:2.0
CALSCALE:GREGORIAN
METHOD:REQUEST
PRODID:Marquette Savings Bank
BEGIN:VEVENT
UID: 39413669eaeb3af344b@
SUMMARY: ROMANCE SCAMS *INCLUDES LUNCH 
DTSTAMP:20260424T000202
DTSTART:20240213T110000
DTEND:20240213T120000
LOCATION:
DESCRIPTION:We will review scams that involve imposters and discuss how they create a sense of urgency, or even panic, to trick people into sending money.<br />

STATUS:CONFIRMED
SEQUENCE:3
END:VEVENT
END:VCALENDAR