BEGIN:VCALENDAR
VERSION:2.0
CALSCALE:GREGORIAN
METHOD:REQUEST
PRODID:Marquette Savings Bank
BEGIN:VEVENT
UID: 59725269eaabeab6f10@
SUMMARY: HOW TO PROTECT YOUR BUSINESS FROM A CYBER ATTACK 
DTSTAMP:20260423T193154
DTSTART:20240222T170000
DTEND:20240222T180000
LOCATION:
DESCRIPTION:Calling Marquette Business Banking customers! Scammers are getting smarter by the day which is why it&#039;s important that you protect your business from a cyber attack. Learn how you can protect your businesses information, and ways to prevent a cyber attack happening at your company.
STATUS:CONFIRMED
SEQUENCE:3
END:VEVENT
END:VCALENDAR