BEGIN:VCALENDAR
VERSION:2.0
CALSCALE:GREGORIAN
METHOD:REQUEST
PRODID:Marquette Savings Bank
BEGIN:VEVENT
UID: 20139069eaeb940a47e@
SUMMARY: PROTECT YOUR ONLINE ACCOUNTS *INCLUDES LUNCH 
DTSTAMP:20260424T000332
DTSTART:20240227T120500
DTEND:20240227T130500
LOCATION:
DESCRIPTION:Learn how to outsmart the scammers! Attend this session to learn how you can secure your personal and bank account information and avoid any internet scams.<br />

STATUS:CONFIRMED
SEQUENCE:3
END:VEVENT
END:VCALENDAR