BEGIN:VCALENDAR
VERSION:2.0
CALSCALE:GREGORIAN
METHOD:REQUEST
PRODID:Marquette Savings Bank
BEGIN:VEVENT
UID: 26423869ead8b5ee1c6@
SUMMARY: FIRST TIME HOME BUYER EVENT 
DTSTAMP:20260423T224301
DTSTART:20240302T100000
DTEND:20240302T120000
LOCATION:
DESCRIPTION:We will review the steps taken by first time homebuyers, from start to finish. We&#039;ll explain all the terminology as we cover prequalification, looking for a home, selecting a realtor, selecting a loan officer, applying for a loan, loan documentation, loan approval and loan closing. You will also learn about the Marquette Hometown Mortgage Program and the First Front Door Grant.
STATUS:CONFIRMED
SEQUENCE:3
END:VEVENT
END:VCALENDAR