BEGIN:VCALENDAR
VERSION:2.0
CALSCALE:GREGORIAN
METHOD:REQUEST
PRODID:Marquette Savings Bank
BEGIN:VEVENT
UID: 16056269ead83b21411@
SUMMARY: PROTECT YOUR IDENTITY *INCLUDES LUNCH 
DTSTAMP:20260423T224059
DTSTART:20240312T120500
DTEND:20240312T130500
LOCATION:
DESCRIPTION:Join our fraud experts as we define what identity theft is and discuss steps you can take to prevent it: protect, monitor and report.
STATUS:CONFIRMED
SEQUENCE:3
END:VEVENT
END:VCALENDAR