BEGIN:VCALENDAR
VERSION:2.0
CALSCALE:GREGORIAN
METHOD:REQUEST
PRODID:Marquette Savings Bank
BEGIN:VEVENT
UID: 4456269ead8a46b710@
SUMMARY: BUSINESS BANKING SERIES 2: FRAUD *INCLUDES LUNCH 
DTSTAMP:20260423T224244
DTSTART:20240314T120500
DTEND:20240314T130500
LOCATION:
DESCRIPTION:Are you a Marquette Business Banking customer? Protect your business from being scammed! In this class you will learn about common scams businesses are seeing locally, and the services Marquette Business Banking customers can take advantage of.
STATUS:CONFIRMED
SEQUENCE:3
END:VEVENT
END:VCALENDAR