BEGIN:VCALENDAR
VERSION:2.0
CALSCALE:GREGORIAN
METHOD:REQUEST
PRODID:Marquette Savings Bank
BEGIN:VEVENT
UID: 77703469ead6f7a15f7@
SUMMARY: QUICKBOOKS FOR BUSINESSES 
DTSTAMP:20260423T223535
DTSTART:20240321T170000
DTEND:20240321T180000
LOCATION:
DESCRIPTION:Business Banking customers, do you want to begin using QuickBooks Online for your business? During this course you will learn the features and capabilities of QuickBooks, the most common problems (and their fixes!) and discover the tricks and tips to help you use QuickBooks to its fullest potential.
STATUS:CONFIRMED
SEQUENCE:3
END:VEVENT
END:VCALENDAR