BEGIN:VCALENDAR
VERSION:2.0
CALSCALE:GREGORIAN
METHOD:REQUEST
PRODID:Marquette Savings Bank
BEGIN:VEVENT
UID: 42370769ead6f770612@
SUMMARY:Home Pre-Purchase Workshop
DTSTAMP:20260423T223535
DTSTART:20240319T160000
DTEND:20240319T173000
LOCATION:
DESCRIPTION:
STATUS:CONFIRMED
SEQUENCE:3
END:VEVENT
END:VCALENDAR