BEGIN:VCALENDAR
VERSION:2.0
CALSCALE:GREGORIAN
METHOD:REQUEST
PRODID:Marquette Savings Bank
BEGIN:VEVENT
UID: 75622269eaeba811506@
SUMMARY:Saving for College
DTSTAMP:20260424T000352
DTSTART:20240417T120000
DTEND:20240417T130000
LOCATION:
DESCRIPTION:Wondering how you will pay for your child&#039;s college tuition? Learn about 529 Plans from Certified Financial Planners from Bayfront Benefit Solutions Inc. This session includes lunch!
STATUS:CONFIRMED
SEQUENCE:3
END:VEVENT
END:VCALENDAR