BEGIN:VCALENDAR
VERSION:2.0
CALSCALE:GREGORIAN
METHOD:REQUEST
PRODID:Marquette Savings Bank
BEGIN:VEVENT
UID: 24928369eaec08656c6@
SUMMARY:Home Pre-Purchase Workshop
DTSTAMP:20260424T000528
DTSTART:20240418T160000
DTEND:20240418T173000
LOCATION:
DESCRIPTION:Ready to make your dream of owning a home a reality? Marquette is here to guide you through that process! 
STATUS:CONFIRMED
SEQUENCE:3
END:VEVENT
END:VCALENDAR