BEGIN:VCALENDAR
VERSION:2.0
CALSCALE:GREGORIAN
METHOD:REQUEST
PRODID:Marquette Savings Bank
BEGIN:VEVENT
UID: 3390369eaec715ad20@
SUMMARY:Protect Yourself from Fraud and Scams
DTSTAMP:20260424T000713
DTSTART:20240423T120500
DTEND:20240423T130500
LOCATION:
DESCRIPTION:Learn how to help raise awareness to fraudulent scams and ways you can protect your identity. This session includes lunch!
STATUS:CONFIRMED
SEQUENCE:3
END:VEVENT
END:VCALENDAR