BEGIN:VCALENDAR
VERSION:2.0
CALSCALE:GREGORIAN
METHOD:REQUEST
PRODID:Marquette Savings Bank
BEGIN:VEVENT
UID: 31833269eaec08314c8@
SUMMARY:Business Banking Series 1: Account Opening, Documentation, Business Classification Documents
DTSTAMP:20260424T000528
DTSTART:20240424T120000
DTEND:20240424T130000
LOCATION:
DESCRIPTION:Looking to start a business? Learn about account opening, documentation, and business classification documents. This session includes lunch!
STATUS:CONFIRMED
SEQUENCE:3
END:VEVENT
END:VCALENDAR