BEGIN:VCALENDAR
VERSION:2.0
CALSCALE:GREGORIAN
METHOD:REQUEST
PRODID:Marquette Savings Bank
BEGIN:VEVENT
UID: 42756269eb009be9054@
SUMMARY:Credit Counseling/Repair
DTSTAMP:20260424T013315
DTSTART:20240509T153000
DTEND:20240509T163000
LOCATION:
DESCRIPTION:Learn the importance of a consumers credit history when applying for a loan and tips to repair your credit score.
STATUS:CONFIRMED
SEQUENCE:3
END:VEVENT
END:VCALENDAR