BEGIN:VCALENDAR
VERSION:2.0
CALSCALE:GREGORIAN
METHOD:REQUEST
PRODID:Marquette Savings Bank
BEGIN:VEVENT
UID: 31418169eb0221a6f32@
SUMMARY:Protect Your Spending
DTSTAMP:20260424T013945
DTSTART:20240514T120500
DTEND:20240514T130500
LOCATION:
DESCRIPTION:Learn how to outsmart scammers and secure your bank account information. This class includes lunch!
STATUS:CONFIRMED
SEQUENCE:3
END:VEVENT
END:VCALENDAR