BEGIN:VCALENDAR
VERSION:2.0
CALSCALE:GREGORIAN
METHOD:REQUEST
PRODID:Marquette Savings Bank
BEGIN:VEVENT
UID: 60690469eb00acd1093@
SUMMARY:Estate Planning- Last Will And Testament
DTSTAMP:20260424T013332
DTSTART:20240516T170000
DTEND:20240516T180000
LOCATION:
DESCRIPTION:Learn about the importance of Estate Planning and why you should have a Last Will from experts Eugene C. Sundberg, Jr., Esq. from Marsh Schaaf, LLP and Nicole Mello from Marquette.
STATUS:CONFIRMED
SEQUENCE:3
END:VEVENT
END:VCALENDAR