BEGIN:VCALENDAR
VERSION:2.0
CALSCALE:GREGORIAN
METHOD:REQUEST
PRODID:Marquette Savings Bank
BEGIN:VEVENT
UID: 43176769eb00d05ad6d@
SUMMARY:Planning For And Executing A Successful Retirement
DTSTAMP:20260424T013408
DTSTART:20240523T120000
DTEND:20240523T130000
LOCATION:
DESCRIPTION:Learn how to plan and implement a successful retirement plan from certified financial planners from Bush Investment Group. This session includes lunch!
STATUS:CONFIRMED
SEQUENCE:3
END:VEVENT
END:VCALENDAR