BEGIN:VCALENDAR
VERSION:2.0
CALSCALE:GREGORIAN
METHOD:REQUEST
PRODID:Marquette Savings Bank
BEGIN:VEVENT
UID: 29191969eb03ba180a5@
SUMMARY:Business Bank Series 2: Business Online Platform: What Services You Have Access To and How You Use Them
DTSTAMP:20260424T014634
DTSTART:20240529T120000
DTEND:20240529T130000
LOCATION:
DESCRIPTION:Are you a current business customer, customer at another Financial Institution, or a new business? Learn about the services available to you. This session includes lunch!
STATUS:CONFIRMED
SEQUENCE:3
END:VEVENT
END:VCALENDAR